BEGIN:VCALENDAR
VERSION:2.0
PRODID:-//eventon.com NONSGML v1.0//EN
CALSCALE:GREGORIAN
METHOD:PUBLISH
BEGIN:VEVENT
UID:69eb37e7c625c
DTSTAMP:20260424T092911Z
DTSTART:20260516T120000Z
DTEND:20260516T180000Z
LOCATION:
SUMMARY:Cultural Heritage Live
DESCRIPTION:Cultural Heritage Live\nhttps://aceofjacks.com/events/cultural-
 style-expo-2026-day-one
URL:https://aceofjacks.com/events/cultural-style-expo-2026-day-one
END:VEVENT
END:VCALENDAR