BEGIN:VCALENDAR
VERSION:2.0
PRODID:-//eventon.com NONSGML v1.0//EN
CALSCALE:GREGORIAN
METHOD:PUBLISH
BEGIN:VEVENT
UID:69e60f873ece4
DTSTAMP:20260420T113535Z
DTSTART:20260820T070000Z
DTEND:20260823T200000Z
LOCATION:
SUMMARY:We out here festival 2026
DESCRIPTION:We out here festival 2026\nhttps://aceofjacks.com/events/we-out
 -here-festival-2026
URL:https://aceofjacks.com/events/we-out-here-festival-2026
END:VEVENT
END:VCALENDAR