BEGIN:VCALENDAR
VERSION:2.0
PRODID:-//eventon.com NONSGML v1.0//EN
CALSCALE:GREGORIAN
METHOD:PUBLISH
BEGIN:VEVENT
UID:69eb75480afeb
DTSTAMP:20260424T135104Z
DTSTART:20260523T100000Z
DTEND:20260523T180000Z
LOCATION:
SUMMARY:The Pop Up Project - Walthamstow
DESCRIPTION:The Pop Up Project - Walthamstow\nhttps://aceofjacks.com/events
 /cultural-style-couture-fashion-show-after-party
URL:https://aceofjacks.com/events/cultural-style-couture-fashion-show-after-party
END:VEVENT
END:VCALENDAR