BEGIN:VCALENDAR
VERSION:2.0
PRODID:-//eventon.com NONSGML v1.0//EN
CALSCALE:GREGORIAN
METHOD:PUBLISH
BEGIN:VEVENT
UID:69e8b30a26d6f
DTSTAMP:20260422T113746Z
DTSTART:20260718T100000Z
DTEND:20260718T180000Z
LOCATION:
SUMMARY:Rock & Ribs Festival 2026
DESCRIPTION:Rock & Ribs Festival 2026\nhttps://aceofjacks.com/events/rock-r
 ibs-festival-2026
URL:https://aceofjacks.com/events/rock-ribs-festival-2026
END:VEVENT
END:VCALENDAR